BEGIN:VCALENDAR
VERSION:2.0
PRODID:-//Bar Mágico - ECPv6.0.11//NONSGML v1.0//EN
CALSCALE:GREGORIAN
METHOD:PUBLISH
X-WR-CALNAME:Bar Mágico
X-ORIGINAL-URL:https://barmagico.com.ar
X-WR-CALDESC:Events for Bar Mágico
REFRESH-INTERVAL;VALUE=DURATION:PT1H
X-Robots-Tag:noindex
X-PUBLISHED-TTL:PT1H
BEGIN:VTIMEZONE
TZID:America/Argentina/Buenos_Aires
BEGIN:STANDARD
TZOFFSETFROM:-0300
TZOFFSETTO:-0300
TZNAME:-03
DTSTART:20250101T000000
END:STANDARD
END:VTIMEZONE
BEGIN:VEVENT
DTSTART;TZID=America/Argentina/Buenos_Aires:20250207T190000
DTEND;TZID=America/Argentina/Buenos_Aires:20250207T200000
DTSTAMP:20260419T121201
CREATED:20231221T221746Z
LAST-MODIFIED:20250205T160235Z
UID:6332-1738954800-1738958400@barmagico.com.ar
SUMMARY:Reglas Opcionales 07 - 02
DESCRIPTION:
URL:https://barmagico.com.ar/show/reglas-opcionales-07-02/
LOCATION:BAR MÁGICO\, Carlos Calvo 1631\, CABA\, CABA\, 1102\, Argentina
CATEGORIES:show
ATTACH;FMTTYPE=image/jpeg:https://barmagico.com.ar/wp-content/uploads/2025/01/santi-7-febrero-nh.jpg
END:VEVENT
BEGIN:VEVENT
DTSTART;TZID=America/Argentina/Buenos_Aires:20250207T203000
DTEND;TZID=America/Argentina/Buenos_Aires:20250207T220000
DTSTAMP:20260419T121201
CREATED:20240103T223141Z
LAST-MODIFIED:20250205T154313Z
UID:6487-1738960200-1738965600@barmagico.com.ar
SUMMARY:Vértigo 07 – 02
DESCRIPTION:
URL:https://barmagico.com.ar/show/vertigo-07-02/
LOCATION:BAR MÁGICO\, Carlos Calvo 1631\, CABA\, CABA\, 1102\, Argentina
CATEGORIES:show
ATTACH;FMTTYPE=image/jpeg:https://barmagico.com.ar/wp-content/uploads/2025/02/dabat-general-febrero-nh-1.jpg
END:VEVENT
END:VCALENDAR