BEGIN:VCALENDAR
VERSION:2.0
PRODID:-//Bar Mágico - ECPv6.0.11//NONSGML v1.0//EN
CALSCALE:GREGORIAN
METHOD:PUBLISH
X-WR-CALNAME:Bar Mágico
X-ORIGINAL-URL:https://barmagico.com.ar
X-WR-CALDESC:Events for Bar Mágico
REFRESH-INTERVAL;VALUE=DURATION:PT1H
X-Robots-Tag:noindex
X-PUBLISHED-TTL:PT1H
BEGIN:VTIMEZONE
TZID:America/Argentina/Buenos_Aires
BEGIN:STANDARD
TZOFFSETFROM:-0300
TZOFFSETTO:-0300
TZNAME:-03
DTSTART:20250101T000000
END:STANDARD
END:VTIMEZONE
BEGIN:VEVENT
DTSTART;TZID=America/Argentina/Buenos_Aires:20250214T190000
DTEND;TZID=America/Argentina/Buenos_Aires:20250214T200000
DTSTAMP:20260419T174829
CREATED:20240930T170925Z
LAST-MODIFIED:20250205T160249Z
UID:8844-1739559600-1739563200@barmagico.com.ar
SUMMARY:Ilusiones Cercanas 14 – 02
DESCRIPTION:
URL:https://barmagico.com.ar/show/ilusiones-cercanas-14-02/
LOCATION:BAR MÁGICO\, Carlos Calvo 1631\, CABA\, CABA\, 1102\, Argentina
CATEGORIES:show
ATTACH;FMTTYPE=image/jpeg:https://barmagico.com.ar/wp-content/uploads/2025/01/matias-14-febrero-nh.jpg
END:VEVENT
BEGIN:VEVENT
DTSTART;TZID=America/Argentina/Buenos_Aires:20250214T203000
DTEND;TZID=America/Argentina/Buenos_Aires:20250214T220000
DTSTAMP:20260419T174829
CREATED:20231221T221343Z
LAST-MODIFIED:20250205T154404Z
UID:6330-1739565000-1739570400@barmagico.com.ar
SUMMARY:Vértigo 14 – 02
DESCRIPTION:
URL:https://barmagico.com.ar/show/vertigo-14-02/
LOCATION:BAR MÁGICO\, Carlos Calvo 1631\, CABA\, CABA\, 1102\, Argentina
CATEGORIES:show
ATTACH;FMTTYPE=image/jpeg:https://barmagico.com.ar/wp-content/uploads/2025/02/dabat-general-febrero-nh-1.jpg
END:VEVENT
END:VCALENDAR