BEGIN:VCALENDAR
VERSION:2.0
PRODID:-//Bar Mágico - ECPv6.0.11//NONSGML v1.0//EN
CALSCALE:GREGORIAN
METHOD:PUBLISH
X-WR-CALNAME:Bar Mágico
X-ORIGINAL-URL:https://barmagico.com.ar
X-WR-CALDESC:Events for Bar Mágico
REFRESH-INTERVAL;VALUE=DURATION:PT1H
X-Robots-Tag:noindex
X-PUBLISHED-TTL:PT1H
BEGIN:VTIMEZONE
TZID:America/Argentina/Buenos_Aires
BEGIN:STANDARD
TZOFFSETFROM:-0300
TZOFFSETTO:-0300
TZNAME:-03
DTSTART:20250101T000000
END:STANDARD
END:VTIMEZONE
BEGIN:VEVENT
DTSTART;TZID=America/Argentina/Buenos_Aires:20250221T190000
DTEND;TZID=America/Argentina/Buenos_Aires:20250221T200000
DTSTAMP:20260419T233648
CREATED:20241001T192258Z
LAST-MODIFIED:20250205T160304Z
UID:8882-1740164400-1740168000@barmagico.com.ar
SUMMARY:Ilusión 21 - 02
DESCRIPTION:
URL:https://barmagico.com.ar/show/ilusion-21-02/
LOCATION:BAR MÁGICO\, Carlos Calvo 1631\, CABA\, CABA\, 1102\, Argentina
CATEGORIES:show
ATTACH;FMTTYPE=image/jpeg:https://barmagico.com.ar/wp-content/uploads/2025/01/javi-21-febrero-nh.jpg
END:VEVENT
BEGIN:VEVENT
DTSTART;TZID=America/Argentina/Buenos_Aires:20250221T203000
DTEND;TZID=America/Argentina/Buenos_Aires:20250221T220000
DTSTAMP:20260419T233648
CREATED:20231221T222130Z
LAST-MODIFIED:20250205T154423Z
UID:6333-1740169800-1740175200@barmagico.com.ar
SUMMARY:Vértigo 21 – 02
DESCRIPTION:
URL:https://barmagico.com.ar/show/vertigo-21-02/
LOCATION:BAR MÁGICO\, Carlos Calvo 1631\, CABA\, CABA\, 1102\, Argentina
CATEGORIES:show
ATTACH;FMTTYPE=image/jpeg:https://barmagico.com.ar/wp-content/uploads/2025/02/dabat-general-febrero-nh-1.jpg
END:VEVENT
END:VCALENDAR